BEGIN:VCALENDAR
VERSION:2.0
PRODID:-//wp-events-plugin.com//7.2.3.1//EN
BEGIN:VEVENT
UID:36@bethelro.ca
DTSTART:20241027T140000Z
DTEND:20241027T170000Z
DTSTAMP:20240309T180412Z
URL:https://bethelro.ca/events/duminica-dimineata-2024-10-27/
SUMMARY:Serviciu Divin
DESCRIPTION:
CATEGORIES:program duminica
END:VEVENT
END:VCALENDAR