BEGIN:VCALENDAR
VERSION:2.0
PRODID:-//wp-events-plugin.com//7.2.3.1//EN
BEGIN:VEVENT
UID:357@bethelro.ca
DTSTART:20240829T000000Z
DTEND:20240829T020000Z
DTSTAMP:20240309T181204Z
URL:https://bethelro.ca/events/intalnire-de-tineret-2-2024-08-28/
SUMMARY:Întâlnire de tineret
DESCRIPTION:
END:VEVENT
END:VCALENDAR