BEGIN:VCALENDAR
VERSION:2.0
PRODID:-//wp-events-plugin.com//7.2.3.1//EN
BEGIN:VEVENT
UID:493@bethelro.ca
DTSTART:20250308T000000Z
DTEND:20250308T020000Z
DTSTAMP:20240309T181245Z
URL:https://bethelro.ca/events/seara-de-rugaciune-cu-surorile-2025-03-07/
SUMMARY:Seară de rugăciune cu surorile
DESCRIPTION:
END:VEVENT
END:VCALENDAR